BEGIN:VCALENDAR
VERSION:2.0
PRODID:-//eventon.com NONSGML v1.0//EN
BEGIN:VEVENT
UID:69e5fdf013f94
DTSTAMP:20260420T122032
DTSTART:20260615T070000Z
DTEND:20260619T140000Z
LOCATION:Billabong Familienzentrum Riedberg e.V. Graf-von-Stauffenbergallee 46b\,  60438 Frankfurt
SUMMARY:Bleib gesund - Resilienztraining für Beruf und Alltag
DESCRIPTION: Bleib gesund - Resilienztraining für Beruf und Alltag
END:VEVENT
END:VCALENDAR