BEGIN:VCALENDAR
VERSION:2.0
PRODID:-//eventon.com NONSGML v1.0//EN
BEGIN:VEVENT
UID:69e5fe0914b5b
DTSTAMP:20260420T122057
DTSTART:20260504T070000Z
DTEND:20260508T140000Z
LOCATION:Billabong Familienzentrum Riedberg e.V. Graf-von-Stauffenbergallee 46b\,  60438 Frankfurt
SUMMARY:Aufblühen statt ausbrennen - Resilienz stärken für Beruf und Alltag
DESCRIPTION: Aufblühen statt ausbrennen - Resilienz stärken für Beruf und Alltag
END:VEVENT
END:VCALENDAR